BEGIN:VCALENDAR
VERSION:2.0
PRODID:-//Ravi.Solar Selbstbauinitiative - ECPv6.11.2.1//NONSGML v1.0//EN
CALSCALE:GREGORIAN
METHOD:PUBLISH
X-WR-CALNAME:Ravi.Solar Selbstbauinitiative
X-ORIGINAL-URL:https://ravi.solar
X-WR-CALDESC:Veranstaltungen für Ravi.Solar Selbstbauinitiative
REFRESH-INTERVAL;VALUE=DURATION:PT1H
X-Robots-Tag:noindex
X-PUBLISHED-TTL:PT1H
BEGIN:VTIMEZONE
TZID:Europe/Paris
BEGIN:DAYLIGHT
TZOFFSETFROM:+0100
TZOFFSETTO:+0200
TZNAME:CEST
DTSTART:20240331T010000
END:DAYLIGHT
BEGIN:STANDARD
TZOFFSETFROM:+0200
TZOFFSETTO:+0100
TZNAME:CET
DTSTART:20241027T010000
END:STANDARD
END:VTIMEZONE
BEGIN:VEVENT
DTSTART;TZID=Europe/Paris:20240618T180000
DTEND;TZID=Europe/Paris:20240618T200000
DTSTAMP:20260421T114943
CREATED:20240408T081534Z
LAST-MODIFIED:20240618T103416Z
UID:2133-1718733600-1718740800@ravi.solar
SUMMARY:Ravi.Solar Info Abend
DESCRIPTION:Agenda: \n* Unsere Ravi.Solar Selbstbauinitiative\n* Was sind Balkonkraftwerke\n* Schritt für Schritt zur Selbstbau Solaranlage\n* Fragerunde / Feedback \nDie angezeigten Reservierungen stellen nur die per Webseite getägtigen Teilnahmemeldungen dar.
URL:https://ravi.solar/event/ravi-solar-info-abend-3/
LOCATION:Showroom Ravi.Solar Niederwiesa\, Lichtenwalder Str. 19\, Niederwiesa\, Sachsen\, 09577\, Deutschland
ORGANIZER;CN="RaviSolar Niederwiesa Lutz Raasch":MAILTO:info@ravisolar-niederwiesa.de
END:VEVENT
BEGIN:VEVENT
DTSTART;TZID=Europe/Paris:20240416T170000
DTEND;TZID=Europe/Paris:20240416T190000
DTSTAMP:20260421T114943
CREATED:20240126T083314Z
LAST-MODIFIED:20240126T083922Z
UID:2094-1713286800-1713294000@ravi.solar
SUMMARY:Ravi.Solar Info Abend
DESCRIPTION:Agenda: \n* Unsere Ravi.Solar Selbstbauinitiative\n* Was sind Balkonkraftwerke\n* Schritt für Schritt zur Selbstbau Solaranlage\n* Fragerunde / Feedback \nDie angezeigten Reservierungen stellen nur die per Webseite getägtigen Teilnahmemeldungen dar.
URL:https://ravi.solar/event/ravi-solar-info-abend-2/
LOCATION:Showroom Ravi.Solar Niederwiesa\, Lichtenwalder Str. 19\, Niederwiesa\, Sachsen\, 09577\, Deutschland
CATEGORIES:Präsenzs Vor Ort
ORGANIZER;CN="RaviSolar Niederwiesa Lutz Raasch":MAILTO:info@ravisolar-niederwiesa.de
END:VEVENT
BEGIN:VEVENT
DTSTART;TZID=Europe/Paris:20240312T180000
DTEND;TZID=Europe/Paris:20240312T200000
DTSTAMP:20260421T114943
CREATED:20231207T155338Z
LAST-MODIFIED:20240126T083947Z
UID:25-1710266400-1710273600@ravi.solar
SUMMARY:Ravi.Solar Info Abend
DESCRIPTION:Agenda: \n* Unsere Ravi.Solar Selbstbauinitiative\n* Was sind Balkonkraftwerke\n* Schritt für Schritt zur Selbstbau Solaranlage\n* Fragerunde / Feedback \nDie angezeigten Reservierungen stellen nur die per Webseite getägtigen Teilnahmemeldungen dar.
URL:https://ravi.solar/event/ravi-solar-info-abend/
LOCATION:Showroom Ravi.Solar Niederwiesa\, Lichtenwalder Str. 19\, Niederwiesa\, Sachsen\, 09577\, Deutschland
CATEGORIES:Präsenzs Vor Ort
ORGANIZER;CN="RaviSolar Niederwiesa Lutz Raasch":MAILTO:info@ravisolar-niederwiesa.de
END:VEVENT
END:VCALENDAR